BEGIN:VCALENDAR
VERSION:2.0
PRODID:-//Opportunity Inc. - ECPv6.15.20//NONSGML v1.0//EN
CALSCALE:GREGORIAN
METHOD:PUBLISH
X-WR-CALNAME:Opportunity Inc.
X-ORIGINAL-URL:https://www.oppincwi.org
X-WR-CALDESC:Events for Opportunity Inc.
REFRESH-INTERVAL;VALUE=DURATION:PT1H
X-Robots-Tag:noindex
X-PUBLISHED-TTL:PT1H
BEGIN:VTIMEZONE
TZID:America/Chicago
BEGIN:DAYLIGHT
TZOFFSETFROM:-0600
TZOFFSETTO:-0500
TZNAME:CDT
DTSTART:20250309T080000
END:DAYLIGHT
BEGIN:STANDARD
TZOFFSETFROM:-0500
TZOFFSETTO:-0600
TZNAME:CST
DTSTART:20251102T070000
END:STANDARD
BEGIN:DAYLIGHT
TZOFFSETFROM:-0600
TZOFFSETTO:-0500
TZNAME:CDT
DTSTART:20260308T080000
END:DAYLIGHT
BEGIN:STANDARD
TZOFFSETFROM:-0500
TZOFFSETTO:-0600
TZNAME:CST
DTSTART:20261101T070000
END:STANDARD
BEGIN:DAYLIGHT
TZOFFSETFROM:-0600
TZOFFSETTO:-0500
TZNAME:CDT
DTSTART:20270314T080000
END:DAYLIGHT
BEGIN:STANDARD
TZOFFSETFROM:-0500
TZOFFSETTO:-0600
TZNAME:CST
DTSTART:20271107T070000
END:STANDARD
END:VTIMEZONE
BEGIN:VEVENT
DTSTART;TZID=America/Chicago:20260518T080000
DTEND;TZID=America/Chicago:20260518T120000
DTSTAMP:20260422T213244
CREATED:20260422T171333Z
LAST-MODIFIED:20260422T171333Z
UID:10000169-1779091200-1779105600@www.oppincwi.org
SUMMARY:Resident Rights
DESCRIPTION:In this comprehensive\, in-person training\, students will gain a thorough understanding of key Resident Rights\, including confidentiality\, grievance procedures\, the right to feel safe\, self-determination\, and the right to make choices. We will also explore professional boundaries when working in a community-based living facility\, ensuring learners understand how to maintain appropriate relationships with residents. \nThe course will cover crucial topics such as Abuse\, Neglect\, and Misappropriation\, ensuring that participants are equipped with the knowledge to identify\, address\, and prevent these serious issues. \nThis interactive class is delivered in a welcoming classroom environment\, designed to offer quality\, affordable\, hands-on training while meeting all state regulations. The instructor is a certified\, knowledgeable\, and experienced Nurse Educator\, committed to providing the best learning experience. \nThis course is open to individuals across Wisconsin. Employers are also encouraged to register employees for this valuable training opportunity. \nRegister now to enhance your understanding of Resident Rights and professional boundaries in community-based living settings!
URL:https://www.oppincwi.org/event/resident-rights-11/
LOCATION:Opportunity Inc.\, 388 River Drive\, Wausau\, WI\, 54403\, United States
CATEGORIES:Classes
ATTACH;FMTTYPE=image/jpeg:https://www.oppincwi.org/wp-content/uploads/2025/10/cropped-Opportunity_Inc_Logo_2025.jpg
ORGANIZER;CN="Aimee Paszkot":MAILTO:aimeep@oppincwi.org
END:VEVENT
BEGIN:VEVENT
DTSTART;TZID=America/Chicago:20260518T123000
DTEND;TZID=America/Chicago:20260518T160000
DTSTAMP:20260422T213244
CREATED:20260422T171506Z
LAST-MODIFIED:20260422T171506Z
UID:10000170-1779107400-1779120000@www.oppincwi.org
SUMMARY:CBRF Fire Safety
DESCRIPTION:This state-approved Fire Safety training is designed to equip students with essential fire safety practices\, fire prevention techniques\, evacuation procedures\, and emergency response skills. Using the state-approved CBRF curriculum by UWGB\, students will learn how to recognize fire hazards\, manage fire-related emergencies\, and respond effectively to ensure the safety of all individuals in a community-based living environment. \nUpon successful completion of this course\, students will be added to the Wisconsin CBRF Registry (registration fee included). This interactive\, hands-on training is held in person in a welcoming classroom setting\, providing learners with quality\, affordable education while meeting state regulations. \nThe class is led by a certified\, experienced Nurse Educator who brings extensive knowledge and expertise to the training. \nThis course is open to individuals across Wisconsin. Employers are encouraged to register their employees for this vital training opportunity. \nRegister today and ensure you are prepared for any fire emergency in your community-based facility!
URL:https://www.oppincwi.org/event/cbrf-fire-safety-27/
LOCATION:Opportunity Inc.\, 388 River Drive\, Wausau\, WI\, 54403\, United States
CATEGORIES:Classes
ATTACH;FMTTYPE=image/jpeg:https://www.oppincwi.org/wp-content/uploads/2025/10/cropped-Opportunity_Inc_Logo_2025.jpg
ORGANIZER;CN="Aimee Paszkot":MAILTO:aimeep@oppincwi.org
END:VEVENT
BEGIN:VEVENT
DTSTART;TZID=America/Chicago:20260520T080000
DTEND;TZID=America/Chicago:20260521T160000
DTSTAMP:20260422T213244
CREATED:20260422T171737Z
LAST-MODIFIED:20260422T171737Z
UID:10000171-1779264000-1779379200@www.oppincwi.org
SUMMARY:Personal Care Worker (DSP) Training Course
DESCRIPTION:This comprehensive 14-hour\, 2-day course covers a wide range of topics essential for effective\, quality resident care.  Students will gain valuable knowledge and skills in areas including: \n\nEffective hand hygiene\nAssessing residents\nManaging resistance to cares\nVerbal and nonverbal communication\nUnderstanding traumatic brain injury\, developmental disabilities\, and seizures\nChecking\, assessing\, and interpreting vital signs\nRecognizing and addressing conditions like schizophrenia and sleep disturbances\nAssisting with activities of daily living (ADLs)\nTransfers\, elimination\, and mechanical lift use\nConducting skin and falls assessments\n\nThis interactive class is held in person in a welcoming\, hands-on learning environment\, where participants will receive high-quality\, affordable training that meets state regulations. \nThe course is led by a certified\, experienced Nurse Educator\, ensuring that students receive expert instruction throughout the program. \nThis course is open to individuals across Wisconsin. Employers are also encouraged to register their employees for this vital training.
URL:https://www.oppincwi.org/event/personal-care-worker-dsp-training-course-24/
LOCATION:Opportunity Inc.\, 388 River Drive\, Wausau\, WI\, 54403\, United States
CATEGORIES:Classes
ATTACH;FMTTYPE=image/jpeg:https://www.oppincwi.org/wp-content/uploads/2025/10/cropped-Opportunity_Inc_Logo_2025.jpg
ORGANIZER;CN="Aimee Paszkot":MAILTO:aimeep@oppincwi.org
END:VEVENT
BEGIN:VEVENT
DTSTART;TZID=America/Chicago:20260526T090000
DTEND;TZID=America/Chicago:20260526T113000
DTSTAMP:20260422T213244
CREATED:20260422T171848Z
LAST-MODIFIED:20260422T171848Z
UID:10000172-1779786000-1779795000@www.oppincwi.org
SUMMARY:Standard Precautions
DESCRIPTION:This state-approved CBRF course follows the UWGB curriculum and provides students with the essential knowledge to protect themselves and residents from infectious diseases. Participants will learn effective infection control practices\, prevention techniques\, and how to handle potential outbreaks in a community-based living facility. \nUpon successful completion of this course\, students will be added to the Wisconsin CBRF Registry (registration fee included). This interactive\, hands-on training is held in person in a welcoming classroom environment\, offering affordable\, quality education while meeting state regulations. \nThe class is led by a certified\, experienced Nurse Educator with extensive expertise in infection control. \nThis course is open to individuals across Wisconsin. Employers are encouraged to register their employees for this important training.
URL:https://www.oppincwi.org/event/standard-precautions-16/
LOCATION:Opportunity Inc.\, 388 River Drive\, Wausau\, WI\, 54403\, United States
CATEGORIES:Classes
ATTACH;FMTTYPE=image/jpeg:https://www.oppincwi.org/wp-content/uploads/2025/10/cropped-Opportunity_Inc_Logo_2025.jpg
ORGANIZER;CN="Aimee Paszkot":MAILTO:aimeep@oppincwi.org
END:VEVENT
BEGIN:VEVENT
DTSTART;TZID=America/Chicago:20260526T120000
DTEND;TZID=America/Chicago:20260526T160000
DTSTAMP:20260422T213244
CREATED:20260422T172326Z
LAST-MODIFIED:20260422T172326Z
UID:10000173-1779796800-1779811200@www.oppincwi.org
SUMMARY:WI CBRF First Aid & Choking
DESCRIPTION:This state-approved CBRF course\, following the UWGB curriculum\, provides students with essential training for effectively handling medical emergencies and exposure incidents. Instructors will also cover the proper use of Personal Protective Equipment (PPE) and promote best practices in personal hygiene to ensure the safety and health of both staff and residents. \nUpon successful completion of this course\, students will be added to the Wisconsin CBRF Registry (registration fee included). This interactive\, hands-on training is held in person in a welcoming classroom environment\, offering quality\, affordable education while meeting state regulations. \nThe class is taught by a certified\, experienced Nurse Educator\, ensuring participants receive expert guidance and knowledge. \nThis course is open to individuals across Wisconsin. Employers are welcome to register their employees for this vital training. \nRegister today to gain the skills and knowledge needed to respond confidently to medical emergencies and exposure incidents!
URL:https://www.oppincwi.org/event/wi-cbrf-first-aid-choking-16/
LOCATION:Opportunity Inc.\, 388 River Drive\, Wausau\, WI\, 54403\, United States
CATEGORIES:Classes
ATTACH;FMTTYPE=image/jpeg:https://www.oppincwi.org/wp-content/uploads/2025/10/cropped-Opportunity_Inc_Logo_2025.jpg
ORGANIZER;CN="Aimee Paszkot":MAILTO:aimeep@oppincwi.org
END:VEVENT
BEGIN:VEVENT
DTSTART;TZID=America/Chicago:20260527T080000
DTEND;TZID=America/Chicago:20260528T160000
DTSTAMP:20260422T213244
CREATED:20260422T174556Z
LAST-MODIFIED:20260422T174556Z
UID:10000174-1779868800-1779984000@www.oppincwi.org
SUMMARY:WI CBRF Medication Administration
DESCRIPTION:This 14-hour\, 2-day state-approved training course follows the UWGB curriculum and is designed to meet Wisconsin’s medication administration requirements for CBRFs. Throughout the course\, students will learn the six rights of medication administration\, different types of medications\, key medication terminology\, and how to properly interpret physician-written orders. By the end of this class\, students will be knowledgeable and competent in safe and effective medication administration practices. \nUpon successful completion\, students will be added to the Wisconsin CBRF Registry (registration fee included). This interactive\, hands-on training takes place in a welcoming classroom environment\, providing quality\, affordable education while meeting state regulations. \nThe course is led by a certified\, experienced Nurse Educator\, ensuring that students receive expert instruction and personalized support. \nThis course is open to individuals throughout Wisconsin\, and employers are encouraged to register their employees. \nRegister now for this essential training to ensure you meet the state requirements and gain the skills needed for safe medication administration!
URL:https://www.oppincwi.org/event/wi-cbrf-medication-administration-15/
LOCATION:Opportunity Inc.\, 388 River Drive\, Wausau\, WI\, 54403\, United States
CATEGORIES:Classes
ATTACH;FMTTYPE=image/jpeg:https://www.oppincwi.org/wp-content/uploads/2025/10/cropped-Opportunity_Inc_Logo_2025.jpg
ORGANIZER;CN="Aimee Paszkot":MAILTO:aimeep@oppincwi.org
END:VEVENT
BEGIN:VEVENT
DTSTART;TZID=America/Chicago:20260601T080000
DTEND;TZID=America/Chicago:20260601T120000
DTSTAMP:20260422T213244
CREATED:20260422T175039Z
LAST-MODIFIED:20260422T175039Z
UID:10000175-1780300800-1780315200@www.oppincwi.org
SUMMARY:Resident Rights
DESCRIPTION:In this comprehensive\, in-person training\, students will gain a thorough understanding of key Resident Rights\, including confidentiality\, grievance procedures\, the right to feel safe\, self-determination\, and the right to make choices. We will also explore professional boundaries when working in a community-based living facility\, ensuring learners understand how to maintain appropriate relationships with residents. \nThe course will cover crucial topics such as Abuse\, Neglect\, and Misappropriation\, ensuring that participants are equipped with the knowledge to identify\, address\, and prevent these serious issues. \nThis interactive class is delivered in a welcoming classroom environment\, designed to offer quality\, affordable\, hands-on training while meeting all state regulations. The instructor is a certified\, knowledgeable\, and experienced Nurse Educator\, committed to providing the best learning experience. \nThis course is open to individuals across Wisconsin. Employers are also encouraged to register employees for this valuable training opportunity. \nRegister now to enhance your understanding of Resident Rights and professional boundaries in community-based living settings!
URL:https://www.oppincwi.org/event/resident-rights-12/
LOCATION:Opportunity Inc.\, 388 River Drive\, Wausau\, WI\, 54403\, United States
CATEGORIES:Classes
ATTACH;FMTTYPE=image/jpeg:https://www.oppincwi.org/wp-content/uploads/2025/10/cropped-Opportunity_Inc_Logo_2025.jpg
ORGANIZER;CN="Aimee Paszkot":MAILTO:aimeep@oppincwi.org
END:VEVENT
BEGIN:VEVENT
DTSTART;TZID=America/Chicago:20260601T123000
DTEND;TZID=America/Chicago:20260601T160000
DTSTAMP:20260422T213244
CREATED:20260422T175218Z
LAST-MODIFIED:20260422T175218Z
UID:10000176-1780317000-1780329600@www.oppincwi.org
SUMMARY:CBRF Fire Safety
DESCRIPTION:This state-approved Fire Safety training is designed to equip students with essential fire safety practices\, fire prevention techniques\, evacuation procedures\, and emergency response skills. Using the state-approved CBRF curriculum by UWGB\, students will learn how to recognize fire hazards\, manage fire-related emergencies\, and respond effectively to ensure the safety of all individuals in a community-based living environment. \nUpon successful completion of this course\, students will be added to the Wisconsin CBRF Registry (registration fee included). This interactive\, hands-on training is held in person in a welcoming classroom setting\, providing learners with quality\, affordable education while meeting state regulations. \nThe class is led by a certified\, experienced Nurse Educator who brings extensive knowledge and expertise to the training. \nThis course is open to individuals across Wisconsin. Employers are encouraged to register their employees for this vital training opportunity. \nRegister today and ensure you are prepared for any fire emergency in your community-based facility!
URL:https://www.oppincwi.org/event/cbrf-fire-safety-28/
LOCATION:Opportunity Inc.\, 388 River Drive\, Wausau\, WI\, 54403\, United States
CATEGORIES:Classes
ATTACH;FMTTYPE=image/jpeg:https://www.oppincwi.org/wp-content/uploads/2025/10/cropped-Opportunity_Inc_Logo_2025.jpg
ORGANIZER;CN="Aimee Paszkot":MAILTO:aimeep@oppincwi.org
END:VEVENT
BEGIN:VEVENT
DTSTART;TZID=America/Chicago:20260603T080000
DTEND;TZID=America/Chicago:20260604T160000
DTSTAMP:20260422T213244
CREATED:20260422T175516Z
LAST-MODIFIED:20260422T175516Z
UID:10000177-1780473600-1780588800@www.oppincwi.org
SUMMARY:Personal Care Worker (DSP) Training Course
DESCRIPTION:This comprehensive 14-hour\, 2-day course covers a wide range of topics essential for effective\, quality resident care.  Students will gain valuable knowledge and skills in areas including: \n\nEffective hand hygiene\nAssessing residents\nManaging resistance to cares\nVerbal and nonverbal communication\nUnderstanding traumatic brain injury\, developmental disabilities\, and seizures\nChecking\, assessing\, and interpreting vital signs\nRecognizing and addressing conditions like schizophrenia and sleep disturbances\nAssisting with activities of daily living (ADLs)\nTransfers\, elimination\, and mechanical lift use\nConducting skin and falls assessments\n\nThis interactive class is held in person in a welcoming\, hands-on learning environment\, where participants will receive high-quality\, affordable training that meets state regulations. \nThe course is led by a certified\, experienced Nurse Educator\, ensuring that students receive expert instruction throughout the program. \nThis course is open to individuals across Wisconsin. Employers are also encouraged to register their employees for this vital training.
URL:https://www.oppincwi.org/event/personal-care-worker-dsp-training-course-25/
LOCATION:Opportunity Inc.\, 388 River Drive\, Wausau\, WI\, 54403\, United States
CATEGORIES:Classes
ATTACH;FMTTYPE=image/jpeg:https://www.oppincwi.org/wp-content/uploads/2025/10/cropped-Opportunity_Inc_Logo_2025.jpg
ORGANIZER;CN="Aimee Paszkot":MAILTO:aimeep@oppincwi.org
END:VEVENT
END:VCALENDAR